BEGIN:VCALENDAR
VERSION:2.0
PRODID:-//Fondazione Return - ECPv6.11.2.1//NONSGML v1.0//EN
CALSCALE:GREGORIAN
METHOD:PUBLISH
X-ORIGINAL-URL:https://www.fondazionereturn.it
X-WR-CALDESC:Eventi per Fondazione Return
REFRESH-INTERVAL;VALUE=DURATION:PT1H
X-Robots-Tag:noindex
X-PUBLISHED-TTL:PT1H
BEGIN:VTIMEZONE
TZID:Europe/Rome
BEGIN:DAYLIGHT
TZOFFSETFROM:+0100
TZOFFSETTO:+0200
TZNAME:CEST
DTSTART:20260329T010000
END:DAYLIGHT
BEGIN:STANDARD
TZOFFSETFROM:+0200
TZOFFSETTO:+0100
TZNAME:CET
DTSTART:20261025T010000
END:STANDARD
END:VTIMEZONE
BEGIN:VEVENT
DTSTART;VALUE=DATE:20260310
DTEND;VALUE=DATE:20260312
DTSTAMP:20260423T155824
CREATED:20260209T102511Z
LAST-MODIFIED:20260309T162805Z
UID:10000107-1773100800-1773273599@www.fondazionereturn.it
SUMMARY:Savona 10-11 marzo 2026 - “Dialogo per la resilienza: scienza\, istituzioni e comunità per la riduzione del rischio e l’adattamento ai cambiamenti climatici”
DESCRIPTION:[vc_row type=”in_container” full_screen_row_position=”middle” column_margin=”default” column_direction=”default” column_direction_tablet=”default” column_direction_phone=”default” scene_position=”center” text_color=”dark” text_align=”left” row_border_radius=”none” row_border_radius_applies=”bg” row_position_desktop=”default” row_position_tablet=”inherit” row_position_phone=”inherit” overflow=”visible” overlay_strength=”0.3″ gradient_direction=”left_to_right” shape_divider_position=”bottom” bg_image_animation=”none”][vc_column column_padding=”no-extra-padding” column_padding_tablet=”inherit” column_padding_phone=”inherit” column_padding_position=”all” flex_gap_desktop=”10px” column_element_direction_desktop=”default” column_element_spacing=”default” desktop_text_alignment=”default” tablet_text_alignment=”default” phone_text_alignment=”default” background_color_opacity=”1″ background_hover_color_opacity=”1″ column_backdrop_filter=”none” column_shadow=”none” column_border_radius=”none” column_link_target=”_self” column_position=”default” gradient_direction=”left_to_right” overlay_strength=”0.3″ width=”1/1″ tablet_width_inherit=”default” animation_type=”default” bg_image_animation=”none” border_type=”simple” column_border_width=”none” column_border_style=”solid”][image_with_animation image_url=”6528″ image_size=”full” max_width=”100%” max_width_mobile=”default” animation_type=”entrance” animation=”None” animation_movement_type=”transform_y” hover_animation=”none” alignment=”” border_radius=”none” box_shadow=”none” image_loading=”default”][/vc_column][vc_column column_padding=”no-extra-padding” column_padding_tablet=”inherit” column_padding_phone=”inherit” column_padding_position=”all” flex_gap_desktop=”10px” column_element_direction_desktop=”default” column_element_spacing=”default” desktop_text_alignment=”default” tablet_text_alignment=”default” phone_text_alignment=”default” background_color_opacity=”1″ background_hover_color_opacity=”1″ column_backdrop_filter=”none” column_shadow=”none” column_border_radius=”none” column_link_target=”_self” column_position=”default” gradient_direction=”left_to_right” overlay_strength=”0.3″ width=”1/1″ tablet_width_inherit=”default” animation_type=”default” bg_image_animation=”none” border_type=”simple” column_border_width=”none” column_border_style=”solid”][vc_column_text css=”” text_direction=”default”]La Fondazione RETURN invita i ricercatori affiliati al progetto a partecipare all’Evento “Dialogo per la resilienza: scienza\, istituzioni e comunità per la riduzione del rischio e l’adattamento climatico” un evento pubblico conclusivo dello Spoke 7 – TS3: Comunità resilienti: le dimensioni sociali\, economiche\, legali e culturali che si terrà a Savona il 10-11 marzo 2026 presso la Fortezza del Priamar. \nL’evento intende creare uno spazio di dialogo strutturato tra scienza\, istituzioni\, imprese\, comunità e professionisti\, con l’obiettivo di consolidare e condividere una visione comune sulla resilienza ai rischi naturali e ai cambiamenti climatici. \nIl contesto attuale richiede approcci integrati alla riduzione del rischio\, alla gestione delle emergenze\, alla pianificazione preventiva e all’adattamento ai cambiamenti climatici. Le conoscenze prodotte dal progetto RETURN — incluse metodologie\, strumenti decisionali\, pratiche partecipative\, analisi di percezione del rischio e approcci giuridici — rappresentano la base per costruire un percorso condiviso verso una resilienza sistemica. \nL’evento vedrà la partecipazione di circa 100 esperti\, tra cui rappresentanti stakeholder istituzionali\, attori economici e associativi\, membri della comunità scientifica e professionisti (per questi ultimi sono previsti Crediti Formativi Professionali). \nL’agenda delle due giornate prevede: \n\nRelazione di apertura sulla struttura e sullo sviluppo del progetto RETURN che si sta concludendo\nSessioni tematiche aperte da keynote speaker esterni su quattro tematiche:\n\nDecisioni e strumenti per la gestione multirischio: efficacia degli interventi oltre i costi/benefici\nPolitiche\, istituzioni e coprogettazione: comunità al centro della riduzione del rischio\nComunità resilienti: fattori psicologici e comportamentali\, comunicazione ed educazione per decisioni informate\nPatrimonio culturale e resilienza: valutazioni multi rischio e ruolo nei sistemi territoriali\n\n\nTavola rotonda conclusiva con gli stakeholder istituzionali per offrire una lettura integrata dei risultati e delle sfide future.\nConfronto operativo con stakeholder territoriali e nazionali\, attraverso tavoli tematici strutturati articolato in due sessioni\n\nIl concetto di resilienza\, nelle sue declinazioni”\nConfronto su strumenti e metodologie sviluppati dal progetto e dai partner\n\n\n\nGli output dei tavoli saranno integrati nella stesura di un Position Paper sulla resilienza.[/vc_column_text][/vc_column][/vc_row][vc_row type=”in_container” full_screen_row_position=”middle” column_margin=”default” column_direction=”default” column_direction_tablet=”default” column_direction_phone=”default” scene_position=”center” text_color=”dark” text_align=”left” row_border_radius=”none” row_border_radius_applies=”bg” row_position_desktop=”default” row_position_tablet=”inherit” row_position_phone=”inherit” overflow=”visible” overlay_strength=”0.3″ gradient_direction=”left_to_right” shape_divider_position=”bottom” bg_image_animation=”none”][vc_column column_padding=”no-extra-padding” column_padding_tablet=”inherit” column_padding_phone=”inherit” column_padding_position=”all” flex_gap_desktop=”10px” column_element_direction_desktop=”default” column_element_spacing=”default” desktop_text_alignment=”default” tablet_text_alignment=”default” phone_text_alignment=”default” background_color_opacity=”1″ background_hover_color_opacity=”1″ column_backdrop_filter=”none” column_shadow=”none” column_border_radius=”none” column_link_target=”_self” column_position=”default” gradient_direction=”left_to_right” overlay_strength=”0.3″ width=”1/1″ tablet_width_inherit=”default” animation_type=”default” bg_image_animation=”none” border_type=”simple” column_border_width=”none” column_border_style=”solid”][nectar_btn size=”medium” open_new_tab=”true” button_style=”regular” button_color_2=”Accent-Color” icon_family=”none” text=”Registrati qui” url=”https://docs.google.com/forms/d/e/1FAIpQLScLn_YxUZ2PXDCdxOMUSaJdEVzmPArZZqGfxLIcr5dYiLAVKw/viewform?usp=dialog”][/vc_column][/vc_row][vc_row type=”in_container” full_screen_row_position=”middle” column_margin=”default” column_direction=”default” column_direction_tablet=”default” column_direction_phone=”default” scene_position=”center” text_color=”dark” text_align=”left” row_border_radius=”none” row_border_radius_applies=”bg” row_position_desktop=”default” row_position_tablet=”inherit” row_position_phone=”inherit” overflow=”visible” overlay_strength=”0.3″ gradient_direction=”left_to_right” shape_divider_position=”bottom” bg_image_animation=”none”][vc_column column_padding=”no-extra-padding” column_padding_tablet=”inherit” column_padding_phone=”inherit” column_padding_position=”all” flex_gap_desktop=”10px” column_element_direction_desktop=”default” column_element_spacing=”default” desktop_text_alignment=”default” tablet_text_alignment=”default” phone_text_alignment=”default” background_color_opacity=”1″ background_hover_color_opacity=”1″ column_backdrop_filter=”none” column_shadow=”none” column_border_radius=”none” column_link_target=”_self” column_position=”default” gradient_direction=”left_to_right” overlay_strength=”0.3″ width=”1/1″ tablet_width_inherit=”default” animation_type=”default” bg_image_animation=”none” border_type=”simple” column_border_width=”none” column_border_style=”solid”][vc_column_text css=”” text_direction=”default”]Scarica il programma \nPer qualsiasi informazione aggiuntiva\, è possibile contattare l’organizzazione all’indirizzo mail: simona.pozzati@cimafoundation.org[/vc_column_text][/vc_column][/vc_row]
URL:https://www.fondazionereturn.it/evento/savona-10-11-marzo-2026-dialogo-per-la-resilienza-scienza-istituzioni-e-comunita-per-la-riduzione-del-rischio-e-ladattamento-ai-cambiamenti-climatici/
LOCATION:Savona\, Fortezza del Priamar
END:VEVENT
END:VCALENDAR